BEGIN:VCALENDAR
PRODID:-//eluceo/ical//2.0/EN
VERSION:2.0
CALSCALE:GREGORIAN
BEGIN:VEVENT
UID:ac5734a489e397fc9133ff4c169e81b7
DTSTAMP:20260424T111627Z
SUMMARY:Els Webinars dels dijous. Hospital Clínic de Barcelona SARS-CoV-2
DESCRIPTION:Nou webinar d'actualització sobre el coneixement en el camp de
  la COVID-19.\n\nEl programa del webinar\, moderat pel Dr. Josep M. Miró\
 , és el següent:\n\n\nSARS-CoV-2 i pulmó: Efectes a curt i llarg termin
 i. Dr. Jacobo Sellarés.\nMedicaments antivirals. Serveixen per a la profi
 laxi i tractament de la COVID-19? Dr. José Muñoz.\n\n\nMés informació
  en aquest enllaç.
DTSTART;VALUE=DATE:20200521
LOCATION:
END:VEVENT
BEGIN:VTIMEZONE
TZID:Europe/Madrid
BEGIN:STANDARD
DTSTART:20260101T131627
TZNAME:CET
TZOFFSETTO:+0100
TZOFFSETFROM:+0100
END:STANDARD
BEGIN:DAYLIGHT
DTSTART:20260329T030000
TZNAME:CEST
TZOFFSETTO:+0200
TZOFFSETFROM:+0100
END:DAYLIGHT
BEGIN:STANDARD
DTSTART:20261025T020000
TZNAME:CET
TZOFFSETTO:+0100
TZOFFSETFROM:+0200
END:STANDARD
END:VTIMEZONE
END:VCALENDAR
