BEGIN:VCALENDAR
PRODID:-//eluceo/ical//2.0/EN
VERSION:2.0
CALSCALE:GREGORIAN
BEGIN:VEVENT
UID:d30b473cdb782fd37cbf692973e36af8
DTSTAMP:20260424T111611Z
SUMMARY:Els Webinars dels dijous. Hospital Clínic de Barcelona SARS-CoV-2
DESCRIPTION:Els dies 7\, 14\, 21 i 18 de maig\, a les 18 h\, tindran lloc w
 ebinars d'actualització sobre el coneixement en el camp de la COVID-19.\n
 \nEl programa del primer webinar\, el proper dijous 7 de maig és:\n\n\nCO
 VID-19: Una pandèmia de valors. Dr. Antoni Castells.\nOrganització dels 
 webinars SARS-CoV-2. Dr. Josep M. Miró.\nActualització epidemiològica i
  prevenció de la transmissió. Dr. Antoni Trilla.\nEl virus SARS-CoV-2 i 
 el diagnòstic microbiològic. Dr. Jordi Vila.\n\n\nMés informació en aq
 uest enllaç.
DTSTART;VALUE=DATE:20200507
LOCATION:
END:VEVENT
BEGIN:VTIMEZONE
TZID:Europe/Madrid
BEGIN:STANDARD
DTSTART:20260101T131611
TZNAME:CET
TZOFFSETTO:+0100
TZOFFSETFROM:+0100
END:STANDARD
BEGIN:DAYLIGHT
DTSTART:20260329T030000
TZNAME:CEST
TZOFFSETTO:+0200
TZOFFSETFROM:+0100
END:DAYLIGHT
BEGIN:STANDARD
DTSTART:20261025T020000
TZNAME:CET
TZOFFSETTO:+0100
TZOFFSETFROM:+0200
END:STANDARD
END:VTIMEZONE
END:VCALENDAR
