BEGIN:VCALENDAR
PRODID:-//eluceo/ical//2.0/EN
VERSION:2.0
CALSCALE:GREGORIAN
BEGIN:VEVENT
UID:ef28eeed0188a2aef4a5330e06af6f66
DTSTAMP:20260424T220706Z
SUMMARY:Els Webinars dels dijous SARS-CoV-2: immunitat i segona onada
DESCRIPTION:Nou webinar d'actualització sobre el coneixement en el camp de
  la COVID-19.\n\nEl programa d'el webinar\, moderat pel Dr. Josep M. Mir
 ó\, és el següent:\n\n\n\nImmunitat innata\, humoral i cel·lular enfro
 nt del SARS COV 2: d'herois a vilans o de vilans a herois Dr. Manel Juan\n
 \n\nEpidemiologia actual de COVID-19. Impacte de les escoles i les mesures
  de prevenció en la segona onada. Dr. Antoni Trilla\n\n\n\nMés informaci
 ó en aquest enllaç.
DTSTART;VALUE=DATE:20201112
LOCATION:
END:VEVENT
BEGIN:VTIMEZONE
TZID:Europe/Madrid
BEGIN:STANDARD
DTSTART:20260101T000706
TZNAME:CET
TZOFFSETTO:+0100
TZOFFSETFROM:+0100
END:STANDARD
BEGIN:DAYLIGHT
DTSTART:20260329T030000
TZNAME:CEST
TZOFFSETTO:+0200
TZOFFSETFROM:+0100
END:DAYLIGHT
BEGIN:STANDARD
DTSTART:20261025T020000
TZNAME:CET
TZOFFSETTO:+0100
TZOFFSETFROM:+0200
END:STANDARD
END:VTIMEZONE
END:VCALENDAR
