BEGIN:VCALENDAR
PRODID:-//eluceo/ical//2.0/EN
VERSION:2.0
CALSCALE:GREGORIAN
BEGIN:VEVENT
UID:83c8162539036f32aeaa03a641d71378
DTSTAMP:20260424T220457Z
SUMMARY:Els Webinars dels dijous SARS-CoV-2: seqüeles post COVID-19
DESCRIPTION:Nou webinar d'actualització sobre el coneixement en el camp de
  la COVID-19.\n\nEl programa d'el webinar\, moderat pel Dr. Josep M. Mir
 ó\, és el següent:\n\n\n\nPost COVID-19: seqüeles pulmonars. Dr. Jaco
 bo Sellarés\n\n\nPost COVID-19: seqüeles extrapulmonars. Dra Gema M. Ll
 edó\n\n\n\nMés informació en aquest enllaç.
DTSTART;VALUE=DATE:20201126
LOCATION:
END:VEVENT
BEGIN:VTIMEZONE
TZID:Europe/Madrid
BEGIN:STANDARD
DTSTART:20260101T000457
TZNAME:CET
TZOFFSETTO:+0100
TZOFFSETFROM:+0100
END:STANDARD
BEGIN:DAYLIGHT
DTSTART:20260329T030000
TZNAME:CEST
TZOFFSETTO:+0200
TZOFFSETFROM:+0100
END:DAYLIGHT
BEGIN:STANDARD
DTSTART:20261025T020000
TZNAME:CET
TZOFFSETTO:+0100
TZOFFSETFROM:+0200
END:STANDARD
END:VTIMEZONE
END:VCALENDAR
