BEGIN:VCALENDAR
PRODID:-//eluceo/ical//2.0/EN
VERSION:2.0
CALSCALE:GREGORIAN
BEGIN:VEVENT
UID:2f3074495c91193270f6e232c4c22007
DTSTAMP:20260424T220340Z
SUMMARY:Els Webinars dels dijous SARS-CoV-2: vacunes
DESCRIPTION:Nou webinar d'actualització sobre el coneixement en el camp de
  la COVID-19.\n\nEl programa d'el webinar\, moderat pel Dr. Josep M. Miró
 \, és el següent:\n\n\nEstat actual de les vacunes en fase 3 enfront de 
 la SARS-CoV-2. Dr. Felipe García\nA qui hem de vacunar del SARS-CoV-2?. D
 ra Silvia Sanjose\n\n\nMés informació en aquest enllaç.
DTSTART;VALUE=DATE:20201105
LOCATION:
END:VEVENT
BEGIN:VTIMEZONE
TZID:Europe/Madrid
BEGIN:STANDARD
DTSTART:20260101T000340
TZNAME:CET
TZOFFSETTO:+0100
TZOFFSETFROM:+0100
END:STANDARD
BEGIN:DAYLIGHT
DTSTART:20260329T030000
TZNAME:CEST
TZOFFSETTO:+0200
TZOFFSETFROM:+0100
END:DAYLIGHT
BEGIN:STANDARD
DTSTART:20261025T020000
TZNAME:CET
TZOFFSETTO:+0100
TZOFFSETFROM:+0200
END:STANDARD
END:VTIMEZONE
END:VCALENDAR
