BEGIN:VCALENDAR
PRODID:-//eluceo/ical//2.0/EN
VERSION:2.0
CALSCALE:GREGORIAN
BEGIN:VEVENT
UID:da2ad58299c16b5bb9f45788a80d3d7a
DTSTAMP:20260425T221948Z
SUMMARY:Endinsa’t en la recerca: el Biobanc t’obre les portes
DESCRIPTION:Inscripció obligatòria\n\n\n\nInscripcions torn 10:15h\n\n\nI
 nscripcions torn 11:15h\n\n\nInscripcions torn 12:15h\n\n\nInscripcions to
 rn 13:15h\n\n\n\nVisita guiada al Biobanc de l’Hospital Clínic-IDIBAPS 
 per conèixer els laboratoris\, els circuits de treball i com es recullen\
 , processen i emmagatzemen mostres biològiques diverses al servei de la r
 ecerca biomèdica. \n\nPúblic:Per a tota la família \n\nTipus d’act
 ivitat: Visites guiades \n\nPlaces disponibles: 20 (per torn)\n\nDurad
 a: 1h 
DTSTART;TZID=Europe/Madrid:20260509T101500
DTEND;TZID=Europe/Madrid:20260509T131500
LOCATION:IDIBAPS-CEK
END:VEVENT
BEGIN:VTIMEZONE
TZID:Europe/Madrid
BEGIN:STANDARD
DTSTART:20260101T001948
TZNAME:CET
TZOFFSETTO:+0100
TZOFFSETFROM:+0100
END:STANDARD
BEGIN:DAYLIGHT
DTSTART:20260329T030000
TZNAME:CEST
TZOFFSETTO:+0200
TZOFFSETFROM:+0100
END:DAYLIGHT
BEGIN:STANDARD
DTSTART:20261025T020000
TZNAME:CET
TZOFFSETTO:+0100
TZOFFSETFROM:+0200
END:STANDARD
END:VTIMEZONE
END:VCALENDAR
