BEGIN:VCALENDAR
PRODID:-//eluceo/ical//2.0/EN
VERSION:2.0
CALSCALE:GREGORIAN
BEGIN:VEVENT
UID:5593d449acf26d8930181976b4b4732c
DTSTAMP:20260425T221607Z
SUMMARY:Envelliment saludable. Viure més i millor
DESCRIPTION:Descobreix l’envelliment saludable: mantén força\, mobilita
 t i salut cognitiva\, participa en tallers pràctics\, rep consells d’al
 imentació i prevenció\, i connecta amb la comunitat per viure més anys 
 amb qualitat i vitalitat. \n\nPúblic: Adults en general \n\nTipus d’
 activitat: Carpes (a la calçada) \n\nHorari: 9:30-14:30 
DTSTART;TZID=Europe/Madrid:20260509T093000
DTEND;TZID=Europe/Madrid:20260509T143000
LOCATION:Casanova - Còrsega
END:VEVENT
BEGIN:VTIMEZONE
TZID:Europe/Madrid
BEGIN:STANDARD
DTSTART:20260101T001607
TZNAME:CET
TZOFFSETTO:+0100
TZOFFSETFROM:+0100
END:STANDARD
BEGIN:DAYLIGHT
DTSTART:20260329T030000
TZNAME:CEST
TZOFFSETTO:+0200
TZOFFSETFROM:+0100
END:DAYLIGHT
BEGIN:STANDARD
DTSTART:20261025T020000
TZNAME:CET
TZOFFSETTO:+0100
TZOFFSETFROM:+0200
END:STANDARD
END:VTIMEZONE
END:VCALENDAR
