BEGIN:VCALENDAR
PRODID:-//eluceo/ical//2.0/EN
VERSION:2.0
CALSCALE:GREGORIAN
BEGIN:VEVENT
UID:8a05973dd40f69b1e2c807aafdd9fa33
DTSTAMP:20260425T221618Z
SUMMARY:Et preocupen els problemes de memòria?
DESCRIPTION:Descobreix la Unitat d’Alzheimer: prova cribatges de memòria
 \, aprèn sobre factors de risc i diagnòstic\, parla amb l’equip i part
 icipa en estudis de recerca per millorar la detecció precoç i la salut c
 ognitiva. \n\nPúblic: Adults en general \n\nTipus d’activitat: Carp
 es (a la calçada) \n\nHorari: 9:30-14:30 
DTSTART;TZID=Europe/Madrid:20260509T093000
DTEND;TZID=Europe/Madrid:20260509T143000
LOCATION:Casanova - Provença
END:VEVENT
BEGIN:VTIMEZONE
TZID:Europe/Madrid
BEGIN:STANDARD
DTSTART:20260101T001618
TZNAME:CET
TZOFFSETTO:+0100
TZOFFSETFROM:+0100
END:STANDARD
BEGIN:DAYLIGHT
DTSTART:20260329T030000
TZNAME:CEST
TZOFFSETTO:+0200
TZOFFSETFROM:+0100
END:DAYLIGHT
BEGIN:STANDARD
DTSTART:20261025T020000
TZNAME:CET
TZOFFSETTO:+0100
TZOFFSETFROM:+0200
END:STANDARD
END:VTIMEZONE
END:VCALENDAR
