BEGIN:VCALENDAR
PRODID:-//eluceo/ical//2.0/EN
VERSION:2.0
CALSCALE:GREGORIAN
BEGIN:VEVENT
UID:f4306094d135c36b282e32789ee4ef38
DTSTAMP:20260425T215402Z
SUMMARY:Experiència Migranya
DESCRIPTION:La Carpa de l’Experiència Migranya és un espai participatiu
  amb activitats interactives sobre la migranya: mural de desencadenants\, 
 jocs de mites i experiències sensorials. Permet conèixer millor aque
 st trastorn\, compartir vivències i descobrir eines pràctiques pe
 r gestionar-lo.  \n\nPúblic: Adults en general \n\nTipus d’activita
 t: Carpes (a la calçada) \n\nHorari: 9:30-14:30 
DTSTART;TZID=Europe/Madrid:20260509T093000
DTEND;TZID=Europe/Madrid:20260509T143000
LOCATION:Casanova - Còrsega
END:VEVENT
BEGIN:VTIMEZONE
TZID:Europe/Madrid
BEGIN:STANDARD
DTSTART:20260101T235402
TZNAME:CET
TZOFFSETTO:+0100
TZOFFSETFROM:+0100
END:STANDARD
BEGIN:DAYLIGHT
DTSTART:20260329T030000
TZNAME:CEST
TZOFFSETTO:+0200
TZOFFSETFROM:+0100
END:DAYLIGHT
BEGIN:STANDARD
DTSTART:20261025T020000
TZNAME:CET
TZOFFSETTO:+0100
TZOFFSETFROM:+0200
END:STANDARD
END:VTIMEZONE
END:VCALENDAR
