BEGIN:VCALENDAR
PRODID:-//eluceo/ical//2.0/EN
VERSION:2.0
CALSCALE:GREGORIAN
BEGIN:VEVENT
UID:537351ee35123641504610905aee1d05
DTSTAMP:20260425T221823Z
SUMMARY:Explora el teu cervell! Descobrim la neuropsicologia
DESCRIPTION:Endinsa’t en el cervell! Manipula un model 3D\, fes proves co
 gnitives i descobreix com la neuroimatge ajuda a estudiar malalties. Activ
 itat interactiva per aprendre\, jugar i sorprendre’t amb la ciència del
  cervell. \n\nPúblic: Per a tota la família \n\nTipus d’activitat:
  Carpes (a la calçada) \n\nHorari: 9:30-14:30 
DTSTART;TZID=Europe/Madrid:20260509T093000
DTEND;TZID=Europe/Madrid:20260509T143000
LOCATION:Casanova - Còrsega
END:VEVENT
BEGIN:VTIMEZONE
TZID:Europe/Madrid
BEGIN:STANDARD
DTSTART:20260101T001823
TZNAME:CET
TZOFFSETTO:+0100
TZOFFSETFROM:+0100
END:STANDARD
BEGIN:DAYLIGHT
DTSTART:20260329T030000
TZNAME:CEST
TZOFFSETTO:+0200
TZOFFSETFROM:+0100
END:DAYLIGHT
BEGIN:STANDARD
DTSTART:20261025T020000
TZNAME:CET
TZOFFSETTO:+0100
TZOFFSETFROM:+0200
END:STANDARD
END:VTIMEZONE
END:VCALENDAR
