BEGIN:VCALENDAR
PRODID:-//eluceo/ical//2.0/EN
VERSION:2.0
CALSCALE:GREGORIAN
BEGIN:VEVENT
UID:ea647a22fec28fdf51976106cd080402
DTSTAMP:20260425T221618Z
SUMMARY:Exposició de maquetes.  Com podria ser el nou Campus?
DESCRIPTION:Descobreix les maquetes desenvolupades pels estudiants del màs
 ter d’Arquitectura Hospitalària\, que exploren diferents visions per al
  futur Campus de Salut Clínic–UB. Un espai per veure\, comentar i imagi
 nar com poden ser els hospitals i els campus biomèdics de les pròximes d
 ècades. \n\nPúblic: Per a tota la família \n\nTipus d’activitat: 
 Nou Clínic \n\nHorari: 9:30h-14:30h 
DTSTART;TZID=Europe/Madrid:20260509T093000
DTEND;TZID=Europe/Madrid:20260509T143000
LOCATION:Casanova - Rosselló
END:VEVENT
BEGIN:VTIMEZONE
TZID:Europe/Madrid
BEGIN:STANDARD
DTSTART:20260101T001618
TZNAME:CET
TZOFFSETTO:+0100
TZOFFSETFROM:+0100
END:STANDARD
BEGIN:DAYLIGHT
DTSTART:20260329T030000
TZNAME:CEST
TZOFFSETTO:+0200
TZOFFSETFROM:+0100
END:DAYLIGHT
BEGIN:STANDARD
DTSTART:20261025T020000
TZNAME:CET
TZOFFSETTO:+0100
TZOFFSETFROM:+0200
END:STANDARD
END:VTIMEZONE
END:VCALENDAR
