BEGIN:VCALENDAR
PRODID:-//eluceo/ical//2.0/EN
VERSION:2.0
CALSCALE:GREGORIAN
BEGIN:VEVENT
UID:4a8af8e4f68ffe4a164d038e15fe5557
DTSTAMP:20260425T222029Z
SUMMARY:Fes cistella amb el Capità Verd i sigues un superheroi de la soste
 nibilitat
DESCRIPTION:Aprèn a separar residus jugant! Participa al nostre joc i enci
 stella les pilotes al contenidor correcte: orgànic\, envasos\, paper i ca
 rtró\, vidre\, rebuig i punt verd. Descobreix també nocions bàsiques so
 bre residu sanitari. \n\nPúblic: Per a tota la família \n\nTipus d’
 activitat: Carpes (a la calçada) \n\nHorari: 9:30-14:30 
DTSTART;TZID=Europe/Madrid:20260509T093000
DTEND;TZID=Europe/Madrid:20260509T143000
LOCATION:Casanova - Provença
END:VEVENT
BEGIN:VTIMEZONE
TZID:Europe/Madrid
BEGIN:STANDARD
DTSTART:20260101T002029
TZNAME:CET
TZOFFSETTO:+0100
TZOFFSETFROM:+0100
END:STANDARD
BEGIN:DAYLIGHT
DTSTART:20260329T030000
TZNAME:CEST
TZOFFSETTO:+0200
TZOFFSETFROM:+0100
END:DAYLIGHT
BEGIN:STANDARD
DTSTART:20261025T020000
TZNAME:CET
TZOFFSETTO:+0100
TZOFFSETFROM:+0200
END:STANDARD
END:VTIMEZONE
END:VCALENDAR
