BEGIN:VCALENDAR
PRODID:-//eluceo/ical//2.0/EN
VERSION:2.0
CALSCALE:GREGORIAN
BEGIN:VEVENT
UID:56b208ef3674bd53b2216ddfa1887ba2
DTSTAMP:20260425T221226Z
SUMMARY:Fes que els teus batecs comptin
DESCRIPTION:Informa’t sobre salut cardiovascular i insuficiència cardía
 ca amb tríptics\, QR-gincama amb qüestionari\, jocs\, dibuixos per pinta
 r\, i premis útils per l’autocura i una dieta cardiosaludable. \n\nPú
 blic: Per a tota la família \n\nTipus d’activitat: Carpes (a la Pla
 ça) \n\nHorari: 9:30-14:30 
DTSTART;TZID=Europe/Madrid:20260509T093000
DTEND;TZID=Europe/Madrid:20260509T143000
LOCATION:Casanova - Còrsega
END:VEVENT
BEGIN:VTIMEZONE
TZID:Europe/Madrid
BEGIN:STANDARD
DTSTART:20260101T001226
TZNAME:CET
TZOFFSETTO:+0100
TZOFFSETFROM:+0100
END:STANDARD
BEGIN:DAYLIGHT
DTSTART:20260329T030000
TZNAME:CEST
TZOFFSETTO:+0200
TZOFFSETFROM:+0100
END:DAYLIGHT
BEGIN:STANDARD
DTSTART:20261025T020000
TZNAME:CET
TZOFFSETTO:+0100
TZOFFSETFROM:+0200
END:STANDARD
END:VTIMEZONE
END:VCALENDAR
