BEGIN:VCALENDAR
PRODID:-//eluceo/ical//2.0/EN
VERSION:2.0
CALSCALE:GREGORIAN
BEGIN:VEVENT
UID:1567905568bdd1cb9fe2316635ccbfb9
DTSTAMP:20260424T203214Z
SUMMARY:Fòrum Salut Clínic 'Actualitat\, mites i realitats de la infecci
 ó per VIH-1 al 2020'
DESCRIPTION:El dijous 27 de febrer a les 18:30 hores a la sala d'actes Fa
 rreras Valentí\, tindrà lloc la conferència del Fòrum Salut Clínic\,
  Actualitat\, mites i realitats de la infecció per VIH-1 al  2020\, a c
 àrrec del Dr. Juan Ambrosioni i de la Dra. Lorena de la Mora ambdós Es
 pecialistes de la Unitat del SIDA i del Servei de Malalties Infeccioses.
DTSTART;VALUE=DATE:20200227
LOCATION:Sala Farreras Valentí (escala 9\, Planta 3). C/ Villarroel\, 170
END:VEVENT
BEGIN:VTIMEZONE
TZID:Europe/Madrid
BEGIN:STANDARD
DTSTART:20260101T223214
TZNAME:CET
TZOFFSETTO:+0100
TZOFFSETFROM:+0100
END:STANDARD
BEGIN:DAYLIGHT
DTSTART:20260329T030000
TZNAME:CEST
TZOFFSETTO:+0200
TZOFFSETFROM:+0100
END:DAYLIGHT
BEGIN:STANDARD
DTSTART:20261025T020000
TZNAME:CET
TZOFFSETTO:+0100
TZOFFSETFROM:+0200
END:STANDARD
END:VTIMEZONE
END:VCALENDAR
