BEGIN:VCALENDAR
PRODID:-//eluceo/ical//2.0/EN
VERSION:2.0
CALSCALE:GREGORIAN
BEGIN:VEVENT
UID:bc57be04c0f91de3c95cc3efbe98344d
DTSTAMP:20260425T222022Z
SUMMARY:Fruita i xocolata per a tota la família. Fins a acabar la fruita!
DESCRIPTION:A primera hora del matí els comerciants del Mercat del Ninot o
 feriran una xocolatada i fruita per agafar forces. Fins que s'acabin les 
 racions. \n\nPúblic: Per a tota la família \n\nTipus d’activitat: 
 Mercat del Ninot \n\nHorari: 10:00h 
DTSTART;TZID=Europe/Madrid:20260509T100000
DTEND;TZID=Europe/Madrid:20260509T110000
LOCATION:Casanova - Provença
END:VEVENT
BEGIN:VTIMEZONE
TZID:Europe/Madrid
BEGIN:STANDARD
DTSTART:20260101T002022
TZNAME:CET
TZOFFSETTO:+0100
TZOFFSETFROM:+0100
END:STANDARD
BEGIN:DAYLIGHT
DTSTART:20260329T030000
TZNAME:CEST
TZOFFSETTO:+0200
TZOFFSETFROM:+0100
END:DAYLIGHT
BEGIN:STANDARD
DTSTART:20261025T020000
TZNAME:CET
TZOFFSETTO:+0100
TZOFFSETFROM:+0200
END:STANDARD
END:VTIMEZONE
END:VCALENDAR
