BEGIN:VCALENDAR
PRODID:-//eluceo/ical//2.0/EN
VERSION:2.0
CALSCALE:GREGORIAN
BEGIN:VEVENT
UID:17e0ac98417621477cd1182e9d55a3a9
DTSTAMP:20260425T221608Z
SUMMARY:Identificació i recerca sobre restes cadavèriques
DESCRIPTION:Inscripció obligatòria\n\n\n\nInscripcions torn 10:30h\n\n\nI
 nscripcions torn 11:45h\n\n\nInscripcions torn 13:00h\n\n\n\nActivitat gui
 ada per introduir els participants en la identificació de restes cadavèr
 iques a partir del cas històric de la família Romanov. \n\nPúblic: Per
  a tota la família \n\nTipus d’activitat: Visites guiades \n\nPlace
 s disponibles: 20 (per torn)\n\nDurada: 45' 
DTSTART;TZID=Europe/Madrid:20260509T103000
DTEND;TZID=Europe/Madrid:20260509T130000
LOCATION:Facultat
END:VEVENT
BEGIN:VTIMEZONE
TZID:Europe/Madrid
BEGIN:STANDARD
DTSTART:20260101T001608
TZNAME:CET
TZOFFSETTO:+0100
TZOFFSETFROM:+0100
END:STANDARD
BEGIN:DAYLIGHT
DTSTART:20260329T030000
TZNAME:CEST
TZOFFSETTO:+0200
TZOFFSETFROM:+0100
END:DAYLIGHT
BEGIN:STANDARD
DTSTART:20261025T020000
TZNAME:CET
TZOFFSETTO:+0100
TZOFFSETFROM:+0200
END:STANDARD
END:VTIMEZONE
END:VCALENDAR
