BEGIN:VCALENDAR
PRODID:-//eluceo/ical//2.0/EN
VERSION:2.0
CALSCALE:GREGORIAN
BEGIN:VEVENT
UID:493dac60fcc92296c23143b9e9c6d1c7
DTSTAMP:20260421T144352Z
SUMMARY:II Curs de Genètica per Nefròlegs
DESCRIPTION:Cal inscripció prèvia gratuïta\n\nModalitat mixta\, presenci
 al i online
DTSTART;TZID=Europe/Madrid:20260421T160000
DTEND;TZID=Europe/Madrid:20260421T192000
LOCATION:Aula Professor Albert Torras - escala 12 planta 5 - Hsopital Clín
 ic de Barcelona. c/Villarroel\, 170 - 08036 Barcelona
END:VEVENT
BEGIN:VTIMEZONE
TZID:Europe/Madrid
BEGIN:STANDARD
DTSTART:20260101T164352
TZNAME:CET
TZOFFSETTO:+0100
TZOFFSETFROM:+0100
END:STANDARD
BEGIN:DAYLIGHT
DTSTART:20260329T030000
TZNAME:CEST
TZOFFSETTO:+0200
TZOFFSETFROM:+0100
END:DAYLIGHT
BEGIN:STANDARD
DTSTART:20261025T020000
TZNAME:CET
TZOFFSETTO:+0100
TZOFFSETFROM:+0200
END:STANDARD
END:VTIMEZONE
END:VCALENDAR
