BEGIN:VCALENDAR
PRODID:-//eluceo/ical//2.0/EN
VERSION:2.0
CALSCALE:GREGORIAN
BEGIN:VEVENT
UID:1b71381f7c05e5947d15dab9a05bdef8
DTSTAMP:20260425T221852Z
SUMMARY:La malaltia de Parkinson: El paper de l’olfacte en la detecció p
 recoç
DESCRIPTION:Ensumem el Parkinson! Descobreix com la pèrdua d’olfacte pot
  ser un signe precoç. Prova aromes i tests d’olfacte\, coneix la recerc
 a HeBA i PPMI ST\, i aprèn com participar en estudis per prevenir i detec
 tar la malaltia. \n\nPúblic: Adults en general \n\nTipus d’activitat
 : Carpes (a la calçada) \n\nHorari: 9:30-14:30 
DTSTART;TZID=Europe/Madrid:20260509T093000
DTEND;TZID=Europe/Madrid:20260509T143000
LOCATION:Casanova - Provença
END:VEVENT
BEGIN:VTIMEZONE
TZID:Europe/Madrid
BEGIN:STANDARD
DTSTART:20260101T001852
TZNAME:CET
TZOFFSETTO:+0100
TZOFFSETFROM:+0100
END:STANDARD
BEGIN:DAYLIGHT
DTSTART:20260329T030000
TZNAME:CEST
TZOFFSETTO:+0200
TZOFFSETFROM:+0100
END:DAYLIGHT
BEGIN:STANDARD
DTSTART:20261025T020000
TZNAME:CET
TZOFFSETTO:+0100
TZOFFSETFROM:+0200
END:STANDARD
END:VTIMEZONE
END:VCALENDAR
