BEGIN:VCALENDAR
PRODID:-//eluceo/ical//2.0/EN
VERSION:2.0
CALSCALE:GREGORIAN
BEGIN:VEVENT
UID:72e2a58f8f4b469d37a740ae7253cda6
DTSTAMP:20260425T221955Z
SUMMARY:La malaltia de Parkinson: ensumem-la aviat! El paper de l’olfacte
  en la detecció precoç
DESCRIPTION:Xerrada  sobre la pèrdua d’olfacte com a indicador precoç 
 de la malaltia de Parkinson\, amb presentació dels estudis en cursi torn 
 obert de preguntes. Possibilitat de convidar algun participant a compartir
  la seva experiència. \n\nPúblic: Adults en general \n\nTipus d’acti
 vitat: Les veus de la salut\n\nHorari: 13:30
DTSTART;TZID=Europe/Madrid:20260509T133000
DTEND;TZID=Europe/Madrid:20260509T140000
LOCATION:Casanova - Provença
END:VEVENT
BEGIN:VTIMEZONE
TZID:Europe/Madrid
BEGIN:STANDARD
DTSTART:20260101T001955
TZNAME:CET
TZOFFSETTO:+0100
TZOFFSETFROM:+0100
END:STANDARD
BEGIN:DAYLIGHT
DTSTART:20260329T030000
TZNAME:CEST
TZOFFSETTO:+0200
TZOFFSETFROM:+0100
END:DAYLIGHT
BEGIN:STANDARD
DTSTART:20261025T020000
TZNAME:CET
TZOFFSETTO:+0100
TZOFFSETFROM:+0200
END:STANDARD
END:VTIMEZONE
END:VCALENDAR
