BEGIN:VCALENDAR
PRODID:-//eluceo/ical//2.0/EN
VERSION:2.0
CALSCALE:GREGORIAN
BEGIN:VEVENT
UID:c0b4ccfd142203af9e0a9c4d3124171d
DTSTAMP:20260425T221917Z
SUMMARY:La sèpsia: reconèixer-la a temps pot salvar vides!
DESCRIPTION:Una infecció pot esdevenir una urgència vital: la sèpsia. Ex
 plicarem de manera senzilla què és\, quines conseqüències té\, com de
 tectar-la i quan cal anar al metge. Actuar a temps pot ser decisiu. \n\nP
 úblic: Adults en general \n\nTipus d’activitat: Les veus de la salut 
 \n\nHorari: 11:30 
DTSTART;TZID=Europe/Madrid:20260509T113000
DTEND;TZID=Europe/Madrid:20260509T120000
LOCATION:Casanova - Provença
END:VEVENT
BEGIN:VTIMEZONE
TZID:Europe/Madrid
BEGIN:STANDARD
DTSTART:20260101T001917
TZNAME:CET
TZOFFSETTO:+0100
TZOFFSETFROM:+0100
END:STANDARD
BEGIN:DAYLIGHT
DTSTART:20260329T030000
TZNAME:CEST
TZOFFSETTO:+0200
TZOFFSETFROM:+0100
END:DAYLIGHT
BEGIN:STANDARD
DTSTART:20261025T020000
TZNAME:CET
TZOFFSETTO:+0100
TZOFFSETFROM:+0200
END:STANDARD
END:VTIMEZONE
END:VCALENDAR
