BEGIN:VCALENDAR
PRODID:-//eluceo/ical//2.0/EN
VERSION:2.0
CALSCALE:GREGORIAN
BEGIN:VEVENT
UID:5f0b38f1edbeaac5abbe8cc66c386151
DTSTAMP:20260425T215430Z
SUMMARY:La teràpia amb gossos
DESCRIPTION:Estudi del Clínic-IDIBAPS mostra que la teràpia assistida amb
  gossos millora l’assistència\, redueix crisis emocionals i facilita la
  regulació emocional en infants de l’Hospital de Dia de salut mental. 
 \n\nPúblic: Per a tota la família \n\nTipus d’activitat: Carpes (a 
 la calçada) \n\nHorari: 9:30-14:31 
DTSTART;TZID=Europe/Madrid:20260509T093000
DTEND;TZID=Europe/Madrid:20260509T143000
LOCATION:Casanova - Provença
END:VEVENT
BEGIN:VTIMEZONE
TZID:Europe/Madrid
BEGIN:STANDARD
DTSTART:20260101T235430
TZNAME:CET
TZOFFSETTO:+0100
TZOFFSETFROM:+0100
END:STANDARD
BEGIN:DAYLIGHT
DTSTART:20260329T030000
TZNAME:CEST
TZOFFSETTO:+0200
TZOFFSETFROM:+0100
END:DAYLIGHT
BEGIN:STANDARD
DTSTART:20261025T020000
TZNAME:CET
TZOFFSETTO:+0100
TZOFFSETFROM:+0200
END:STANDARD
END:VTIMEZONE
END:VCALENDAR
