BEGIN:VCALENDAR
PRODID:-//eluceo/ical//2.0/EN
VERSION:2.0
CALSCALE:GREGORIAN
BEGIN:VEVENT
UID:27c6b864e9a83f120a40006a01fc6e03
DTSTAMP:20260425T234306Z
SUMMARY:Màster de formació permanent en Malalt Crític i Emergències
DESCRIPTION:Descobreix la Facultat de Medicina i Ciències de la Salut: vis
 ita el nostre estand i coneix els programes propis\, oportunitats educativ
 es i recursos que oferim per a estudiants i futurs professionals de la sal
 ut. \n\nPúblic: Adults en general \n\nTipus d’activitat: Carpes (a 
 la calçada) \n\nHorari: 9:30-14:30 
DTSTART;TZID=Europe/Madrid:20260509T093000
DTEND;TZID=Europe/Madrid:20260509T143000
LOCATION:Casanova - Provença
END:VEVENT
BEGIN:VTIMEZONE
TZID:Europe/Madrid
BEGIN:STANDARD
DTSTART:20260101T014306
TZNAME:CET
TZOFFSETTO:+0100
TZOFFSETFROM:+0100
END:STANDARD
BEGIN:DAYLIGHT
DTSTART:20260329T030000
TZNAME:CEST
TZOFFSETTO:+0200
TZOFFSETFROM:+0100
END:DAYLIGHT
BEGIN:STANDARD
DTSTART:20261025T020000
TZNAME:CET
TZOFFSETTO:+0100
TZOFFSETFROM:+0200
END:STANDARD
END:VTIMEZONE
END:VCALENDAR
