BEGIN:VCALENDAR
PRODID:-//eluceo/ical//2.0/EN
VERSION:2.0
CALSCALE:GREGORIAN
BEGIN:VEVENT
UID:7a07e83fe3509b8dc0efde64f86a47fb
DTSTAMP:20260425T221442Z
SUMMARY:Més petits\, més valents: vine a conèixer-los
DESCRIPTION:Crea corones i dibuixos amb missatges d’ànim per a nadons pr
 ematurs i les seves famílies. Descobreix materials reals de la unitat neo
 natal i com aquests elements són vitals per a la seva supervivència i de
 senvolupament. \n\nPúblic: Per a tota la família \n\nTipus d’activi
 tat: Carpes (a la calçada) \n\nHorari: 9:30-14:30 
DTSTART;TZID=Europe/Madrid:20260509T093000
DTEND;TZID=Europe/Madrid:20260509T143000
LOCATION:Casanova - Provença
END:VEVENT
BEGIN:VTIMEZONE
TZID:Europe/Madrid
BEGIN:STANDARD
DTSTART:20260101T001442
TZNAME:CET
TZOFFSETTO:+0100
TZOFFSETFROM:+0100
END:STANDARD
BEGIN:DAYLIGHT
DTSTART:20260329T030000
TZNAME:CEST
TZOFFSETTO:+0200
TZOFFSETFROM:+0100
END:DAYLIGHT
BEGIN:STANDARD
DTSTART:20261025T020000
TZNAME:CET
TZOFFSETTO:+0100
TZOFFSETFROM:+0200
END:STANDARD
END:VTIMEZONE
END:VCALENDAR
