BEGIN:VCALENDAR
PRODID:-//eluceo/ical//2.0/EN
VERSION:2.0
CALSCALE:GREGORIAN
BEGIN:VEVENT
UID:07fbc93c0d172cd049b95676fa0e0908
DTSTAMP:20260420T083817Z
SUMMARY:Microbiota i salut: taller de cuina i alimentació
DESCRIPTION:Descobreix la importància de la microbiota per a la salut i co
 m l’alimentació pot influir-hi\, amb consells pràctics per al dia a di
 a.\n\nInscripcions esgotades.
DTSTART;TZID=Europe/Madrid:20260318T110000
DTEND;TZID=Europe/Madrid:20260318T130000
LOCATION:Espai d’Intercanvi d’Experiències (EIE) (Escala 12 Planta 0).
  Hospital Clínic de Barcelona\, Carrer de Villarroel\, 170
END:VEVENT
BEGIN:VTIMEZONE
TZID:Europe/Madrid
BEGIN:STANDARD
DTSTART:20260101T103817
TZNAME:CET
TZOFFSETTO:+0100
TZOFFSETFROM:+0100
END:STANDARD
BEGIN:DAYLIGHT
DTSTART:20260329T030000
TZNAME:CEST
TZOFFSETTO:+0200
TZOFFSETFROM:+0100
END:DAYLIGHT
BEGIN:STANDARD
DTSTART:20261025T020000
TZNAME:CET
TZOFFSETTO:+0100
TZOFFSETFROM:+0200
END:STANDARD
END:VTIMEZONE
END:VCALENDAR
