BEGIN:VCALENDAR
PRODID:-//eluceo/ical//2.0/EN
VERSION:2.0
CALSCALE:GREGORIAN
BEGIN:VEVENT
UID:83d037b83098f239c7d4e7f42e4f1685
DTSTAMP:20260425T222028Z
SUMMARY:Missió Biobanc: el camí de la recerca col·laborativa en diabetis
  (Escape room)
DESCRIPTION:Inscripció obligatòria\n\n\n\nInscripcions torn 11:00h\n\n\nI
 nscripcions torn 11:45h\n\n\nInscripcions torn 12:30h\n\n\nInscripcions to
 rn 13:15h\n\n\n\nEscape Room científic del Biobanc: resol enigmes\, segue
 ix protocols i prepara mostres de diabetis hereditària. Activitat immersi
 va per a famílies i públic general\, amb treball en equip i col·laborac
 ió entre “laboratoris”. \n\nPúblic: Per a tota la família \n\nTi
 pus d’activitat: Carpes (a la Plaça) 
DTSTART;TZID=Europe/Madrid:20260509T110000
DTEND;TZID=Europe/Madrid:20260509T131500
LOCATION:Casanova - Rosselló
END:VEVENT
BEGIN:VTIMEZONE
TZID:Europe/Madrid
BEGIN:STANDARD
DTSTART:20260101T002028
TZNAME:CET
TZOFFSETTO:+0100
TZOFFSETFROM:+0100
END:STANDARD
BEGIN:DAYLIGHT
DTSTART:20260329T030000
TZNAME:CEST
TZOFFSETTO:+0200
TZOFFSETFROM:+0100
END:DAYLIGHT
BEGIN:STANDARD
DTSTART:20261025T020000
TZNAME:CET
TZOFFSETTO:+0100
TZOFFSETFROM:+0200
END:STANDARD
END:VTIMEZONE
END:VCALENDAR
