BEGIN:VCALENDAR
PRODID:-//eluceo/ical//2.0/EN
VERSION:2.0
CALSCALE:GREGORIAN
BEGIN:VEVENT
UID:1269cd3124b4a2b3f36de5eafa7aab8f
DTSTAMP:20260425T222021Z
SUMMARY:Misteris i tresors. Visita al CRAI Biblioteca del Campus Clínic
DESCRIPTION:Inscripción obligatoria\n\n\n\nInscripcions torn 10:30h\n\n\n
 Inscripcions torn 11:45h\n\n\nInscripcions torn 13:00h\n\n\n\nVisita gui
 ada i teatralitzada al CRAI Biblioteca del Campus Clínic per conèixer le
 s instal·lacions\, llibres antics i curiositats de la medicina catalana d
 e principis del segle XX. \n\nPúblic: Adults en general \n\nTipus d’
 activitat: Visites guiades \n\nPlaces disponibles: 20 (per torn)\n\nDu
 rada: 45' 
DTSTART;TZID=Europe/Madrid:20260509T103000
DTEND;TZID=Europe/Madrid:20260509T130000
LOCATION:Facultat
END:VEVENT
BEGIN:VTIMEZONE
TZID:Europe/Madrid
BEGIN:STANDARD
DTSTART:20260101T002021
TZNAME:CET
TZOFFSETTO:+0100
TZOFFSETFROM:+0100
END:STANDARD
BEGIN:DAYLIGHT
DTSTART:20260329T030000
TZNAME:CEST
TZOFFSETTO:+0200
TZOFFSETFROM:+0100
END:DAYLIGHT
BEGIN:STANDARD
DTSTART:20261025T020000
TZNAME:CET
TZOFFSETTO:+0100
TZOFFSETFROM:+0200
END:STANDARD
END:VTIMEZONE
END:VCALENDAR
