BEGIN:VCALENDAR
PRODID:-//eluceo/ical//2.0/EN
VERSION:2.0
CALSCALE:GREGORIAN
BEGIN:VEVENT
UID:93adf26d57d207b0a6848a417079df54
DTSTAMP:20260425T221916Z
SUMMARY:Modelatge de malalties hepàtiques per al cribratge de fàrmacs
DESCRIPTION:Descobreix el cribatge de fàrmacs en malaltia hepàtica! Els a
 dults aprendran la recerca amb suport visual i els infants participaran en
  un taller pràctic simulant cultius cel·lulars per explorar possibles te
 ràpies. \n\nPúblic: Per a tota la família \n\nTipus d’activitat: 
 Carpes (a la calçada) \n\nHorari: 9:30-14:30 
DTSTART;TZID=Europe/Madrid:20260509T093000
DTEND;TZID=Europe/Madrid:20260509T143000
LOCATION:Casanova - Còrsega
END:VEVENT
BEGIN:VTIMEZONE
TZID:Europe/Madrid
BEGIN:STANDARD
DTSTART:20260101T001916
TZNAME:CET
TZOFFSETTO:+0100
TZOFFSETFROM:+0100
END:STANDARD
BEGIN:DAYLIGHT
DTSTART:20260329T030000
TZNAME:CEST
TZOFFSETTO:+0200
TZOFFSETFROM:+0100
END:DAYLIGHT
BEGIN:STANDARD
DTSTART:20261025T020000
TZNAME:CET
TZOFFSETTO:+0100
TZOFFSETFROM:+0200
END:STANDARD
END:VTIMEZONE
END:VCALENDAR
