BEGIN:VCALENDAR
PRODID:-//eluceo/ical//2.0/EN
VERSION:2.0
CALSCALE:GREGORIAN
BEGIN:VEVENT
UID:493b6bc776f039accc992ef33bfe2583
DTSTAMP:20260425T221546Z
SUMMARY:Mòmies: història i ciència
DESCRIPTION:Inscripció obligatòria\n\n\n\nInscripcions torn 10:30h\n\n\nI
 nscripcions torn 11:45h\n\n\nInscripcions torn 13:00h\n\n\n\nRecorregut co
 mentat per l’exposició per contextualitzar els continguts científics i
  històrics presentats. \n\nPúblic: Adults en general \, joves i adoles
 cents \n\nTipus d’activitat: Visites guiades \n\nPlaces disponibles:
  20 (per torn)\n\nDurada: 45' 
DTSTART;TZID=Europe/Madrid:20260509T103000
DTEND;TZID=Europe/Madrid:20260509T130000
LOCATION:Facultat
END:VEVENT
BEGIN:VTIMEZONE
TZID:Europe/Madrid
BEGIN:STANDARD
DTSTART:20260101T001546
TZNAME:CET
TZOFFSETTO:+0100
TZOFFSETFROM:+0100
END:STANDARD
BEGIN:DAYLIGHT
DTSTART:20260329T030000
TZNAME:CEST
TZOFFSETTO:+0200
TZOFFSETFROM:+0100
END:DAYLIGHT
BEGIN:STANDARD
DTSTART:20261025T020000
TZNAME:CET
TZOFFSETTO:+0100
TZOFFSETFROM:+0200
END:STANDARD
END:VTIMEZONE
END:VCALENDAR
