BEGIN:VCALENDAR
PRODID:-//eluceo/ical//2.0/EN
VERSION:2.0
CALSCALE:GREGORIAN
BEGIN:VEVENT
UID:c507ded8eaa57da1d59f0bc332709654
DTSTAMP:20260425T221355Z
SUMMARY:Monòleg d’Oye Sherman
DESCRIPTION:Maria Rovira\, més coneguda com a 'Oye Sherman'\, utilitza el 
 seu clàssic humor àcid per fer reflexions personals\, qüestionar-se l'a
 ctualitat amb certa ironia\, i compartir la seva mirada crítica sobre la 
 societat catalana actual: des de l'herència de Jordi Pujol fins a les con
 tradiccions del feminisme\, passant per la ficció catalana i la pressió 
 per tenir fills. \n\nPúblic: Per a tota la família \n\nTipus d’acti
 vitat: Escenari esportiu i cultural \n\nHorari: 14:30h 
DTSTART;TZID=Europe/Madrid:20260509T143000
DTEND;TZID=Europe/Madrid:20260509T151500
LOCATION:Casanova - Còrsega
END:VEVENT
BEGIN:VTIMEZONE
TZID:Europe/Madrid
BEGIN:STANDARD
DTSTART:20260101T001355
TZNAME:CET
TZOFFSETTO:+0100
TZOFFSETFROM:+0100
END:STANDARD
BEGIN:DAYLIGHT
DTSTART:20260329T030000
TZNAME:CEST
TZOFFSETTO:+0200
TZOFFSETFROM:+0100
END:DAYLIGHT
BEGIN:STANDARD
DTSTART:20261025T020000
TZNAME:CET
TZOFFSETTO:+0100
TZOFFSETFROM:+0200
END:STANDARD
END:VTIMEZONE
END:VCALENDAR
