BEGIN:VCALENDAR
PRODID:-//eluceo/ical//2.0/EN
VERSION:2.0
CALSCALE:GREGORIAN
BEGIN:VEVENT
UID:9dae8516ba42287f90db43f30d417600
DTSTAMP:20260425T221213Z
SUMMARY:Òrbita Clínic
DESCRIPTION:Una pausa per escoltar i descobrir. Descobreix el vídeopodcast
  Òrbita Clínic. Podràs recuperar alguns dels seus capítols més desta
 cats i endinsar-te en històries de ciència\, salut i innovació explicad
 es pels seus protagonistes. La medicina també s’explica… i s’escolt
 a.\n\nPúblic: Adults en general \n\nTipus d’activitat: Carpes (a la 
 Plaça) \n\nHorari: 9:30-14:31 
DTSTART;TZID=Europe/Madrid:20260509T093000
DTEND;TZID=Europe/Madrid:20260509T143000
LOCATION:Casanova - Rosselló
END:VEVENT
BEGIN:VTIMEZONE
TZID:Europe/Madrid
BEGIN:STANDARD
DTSTART:20260101T001213
TZNAME:CET
TZOFFSETTO:+0100
TZOFFSETFROM:+0100
END:STANDARD
BEGIN:DAYLIGHT
DTSTART:20260329T030000
TZNAME:CEST
TZOFFSETTO:+0200
TZOFFSETFROM:+0100
END:DAYLIGHT
BEGIN:STANDARD
DTSTART:20261025T020000
TZNAME:CET
TZOFFSETTO:+0100
TZOFFSETFROM:+0200
END:STANDARD
END:VTIMEZONE
END:VCALENDAR
