BEGIN:VCALENDAR
PRODID:-//eluceo/ical//2.0/EN
VERSION:2.0
CALSCALE:GREGORIAN
BEGIN:VEVENT
UID:69f9272d7f8e84039ca9e1ee83eb8b98
DTSTAMP:20260425T221433Z
SUMMARY:Pensa com un científic: el mètode científic en acció!!
DESCRIPTION:Activitat on els assistents descobriran com treballen els cient
 ífics a partir d’experiments sorprenents i situacions inesperades. Dava
 nt de fenòmens impactants\, es formularan hipòtesis\, farem prediccions 
 i interpretar els resultats per trobar-ne una explicació. Una experiènci
 a dinàmica que mostra\, de manera pràctica i divertida\, com funciona el
  mètode científic. \n\nPúblic: Per a tota la família \n\nTipus d’
 activitat: Tallers de salut i ciència \n\nHorari: 9:30h-14:30h 
DTSTART;TZID=Europe/Madrid:20260509T093000
DTEND;TZID=Europe/Madrid:20260509T143000
LOCATION:Casanova - Rosselló
END:VEVENT
BEGIN:VTIMEZONE
TZID:Europe/Madrid
BEGIN:STANDARD
DTSTART:20260101T001433
TZNAME:CET
TZOFFSETTO:+0100
TZOFFSETFROM:+0100
END:STANDARD
BEGIN:DAYLIGHT
DTSTART:20260329T030000
TZNAME:CEST
TZOFFSETTO:+0200
TZOFFSETFROM:+0100
END:DAYLIGHT
BEGIN:STANDARD
DTSTART:20261025T020000
TZNAME:CET
TZOFFSETTO:+0100
TZOFFSETFROM:+0200
END:STANDARD
END:VTIMEZONE
END:VCALENDAR
