BEGIN:VCALENDAR
PRODID:-//eluceo/ical//2.0/EN
VERSION:2.0
CALSCALE:GREGORIAN
BEGIN:VEVENT
UID:0cbc117cdbc3a3716b1b24b516697c81
DTSTAMP:20260425T221753Z
SUMMARY:Portes obertes a la Unitat de Salut Mental perinatal
DESCRIPTION:Inscripció obligatòria\n\n\n\nInscripcions torn 10:30h\n\n\n\
 nPortes obertes a la Unitat de Salut Mental Perinatal de l’Hospital Clí
 nic\, referent internacional i amb l’únic Hospital de Dia Mare Bebè de
  l’Estat\, per donar a conèixer el dispositiu\, el seu funcionament i l
 ’atenció especialitzada en salut mental postpart. \n\nPúblic: Adults
  en general \n\nTipus d’activitat: Visites guiades \n\nPlaces dispon
 ibles: 20 (per torn)\n\nDurada: 1h 
DTSTART;TZID=Europe/Madrid:20260509T103000
DTEND;TZID=Europe/Madrid:20260509T113000
LOCATION:Maternitat
END:VEVENT
BEGIN:VTIMEZONE
TZID:Europe/Madrid
BEGIN:STANDARD
DTSTART:20260101T001753
TZNAME:CET
TZOFFSETTO:+0100
TZOFFSETFROM:+0100
END:STANDARD
BEGIN:DAYLIGHT
DTSTART:20260329T030000
TZNAME:CEST
TZOFFSETTO:+0200
TZOFFSETFROM:+0100
END:DAYLIGHT
BEGIN:STANDARD
DTSTART:20261025T020000
TZNAME:CET
TZOFFSETTO:+0100
TZOFFSETFROM:+0200
END:STANDARD
END:VTIMEZONE
END:VCALENDAR
