BEGIN:VCALENDAR
PRODID:-//eluceo/ical//2.0/EN
VERSION:2.0
CALSCALE:GREGORIAN
BEGIN:VEVENT
UID:b6d7eb3e11ddeaf5c5fa3614fa05c411
DTSTAMP:20260419T200221Z
SUMMARY:Portes obertes de l'Escola Eixample Clínic
DESCRIPTION:Vine a conèixer l'Escola Eixample Clínic!\n\nT'explicaran el 
 Cicle d'Imatge pel Diagnòstic i Medicina Nuclear.
DTSTART;VALUE=DATE:20240406
LOCATION:Seminari Conciliar de Barcelona (C/ Diputació\, 231\, 08007\, Bar
 celona)
END:VEVENT
BEGIN:VTIMEZONE
TZID:Europe/Madrid
BEGIN:STANDARD
DTSTART:20260101T220221
TZNAME:CET
TZOFFSETTO:+0100
TZOFFSETFROM:+0100
END:STANDARD
BEGIN:DAYLIGHT
DTSTART:20260329T030000
TZNAME:CEST
TZOFFSETTO:+0200
TZOFFSETFROM:+0100
END:DAYLIGHT
BEGIN:STANDARD
DTSTART:20261025T020000
TZNAME:CET
TZOFFSETTO:+0100
TZOFFSETFROM:+0200
END:STANDARD
END:VTIMEZONE
END:VCALENDAR
