BEGIN:VCALENDAR
PRODID:-//eluceo/ical//2.0/EN
VERSION:2.0
CALSCALE:GREGORIAN
BEGIN:VEVENT
UID:cd27fc56393e60b2d083e93e00fde736
DTSTAMP:20260425T234619Z
SUMMARY:Posa’t la bata i sigues tècnic de laboratori per una estona
DESCRIPTION:Observa líquids biològics al microscopi amb pantalla i aprèn
  a pipetejar amb bata\, guants i ulleres. Experiència pràctica i segura 
 per descobrir tècniques de laboratori com un/a científic/a. \n\nPúblic
 : Per a tota la família \n\nTipus d’activitat: Carpes (a la calçada
 ) \n\nHorari: 9:30-14:30 
DTSTART;TZID=Europe/Madrid:20260509T093000
DTEND;TZID=Europe/Madrid:20260509T143000
LOCATION:Casanova - Provença
END:VEVENT
BEGIN:VTIMEZONE
TZID:Europe/Madrid
BEGIN:STANDARD
DTSTART:20260101T014619
TZNAME:CET
TZOFFSETTO:+0100
TZOFFSETFROM:+0100
END:STANDARD
BEGIN:DAYLIGHT
DTSTART:20260329T030000
TZNAME:CEST
TZOFFSETTO:+0200
TZOFFSETFROM:+0100
END:DAYLIGHT
BEGIN:STANDARD
DTSTART:20261025T020000
TZNAME:CET
TZOFFSETTO:+0100
TZOFFSETFROM:+0200
END:STANDARD
END:VTIMEZONE
END:VCALENDAR
