BEGIN:VCALENDAR
PRODID:-//eluceo/ical//2.0/EN
VERSION:2.0
CALSCALE:GREGORIAN
BEGIN:VEVENT
UID:1c5a830c53fa5921f2fb26ac8f9a85f3
DTSTAMP:20260425T221823Z
SUMMARY:Postprocés i reconstrucció d’imatges diagnòstiques i informaci
 ó de proves diagnòstiques
DESCRIPTION:Descobreix el món del diagnòstic per la imatge: una infermera
  t’explicarà les proves principals i un tècnic mostrarà reconstruccio
 ns 3D i postprocessament d’imatges radiològiques com TC i PET-TC. \n\n
 Públic: Adults en general \, joves i adolescents \n\nTipus d’activita
 t: Carpes (a la calçada) \n\nHorari: 9:30-14:30 
DTSTART;TZID=Europe/Madrid:20260509T093000
DTEND;TZID=Europe/Madrid:20260509T143000
LOCATION:Casanova - Provença
END:VEVENT
BEGIN:VTIMEZONE
TZID:Europe/Madrid
BEGIN:STANDARD
DTSTART:20260101T001823
TZNAME:CET
TZOFFSETTO:+0100
TZOFFSETFROM:+0100
END:STANDARD
BEGIN:DAYLIGHT
DTSTART:20260329T030000
TZNAME:CEST
TZOFFSETTO:+0200
TZOFFSETFROM:+0100
END:DAYLIGHT
BEGIN:STANDARD
DTSTART:20261025T020000
TZNAME:CET
TZOFFSETTO:+0100
TZOFFSETFROM:+0200
END:STANDARD
END:VTIMEZONE
END:VCALENDAR
