BEGIN:VCALENDAR
PRODID:-//eluceo/ical//2.0/EN
VERSION:2.0
CALSCALE:GREGORIAN
BEGIN:VEVENT
UID:f1db318a5e29e47a3560f344a77bc9cb
DTSTAMP:20260425T221957Z
SUMMARY:Prevenció i tractament de la diabetis mitjançant l’exercici fí
 sic
DESCRIPTION:Inscripció obligatòria\n\n\n\nInscripcions torn 11:00h\n\n\nI
 nscripcions torn 12:30h\n\n\n\nVisita a les instal·lacions clíniques d
 ’IDIBAPS\, al carrer Còrsega\, al sector de diabetis i exercici\, per d
 escobrir la recerca i l’atenció vinculades a l’activitat física i la
  salut metabòlica. \n\nPúblic: Adults en general \n\nTipus d’activi
 tat: Visites guiades \n\nPlaces disponibles: 15 (per torn)\n\nDurada:
  50' 
DTSTART;TZID=Europe/Madrid:20260509T110000
DTEND;TZID=Europe/Madrid:20260509T130000
LOCATION:IDIBAPS-CEK
END:VEVENT
BEGIN:VTIMEZONE
TZID:Europe/Madrid
BEGIN:STANDARD
DTSTART:20260101T001957
TZNAME:CET
TZOFFSETTO:+0100
TZOFFSETFROM:+0100
END:STANDARD
BEGIN:DAYLIGHT
DTSTART:20260329T030000
TZNAME:CEST
TZOFFSETTO:+0200
TZOFFSETFROM:+0100
END:DAYLIGHT
BEGIN:STANDARD
DTSTART:20261025T020000
TZNAME:CET
TZOFFSETTO:+0100
TZOFFSETFROM:+0200
END:STANDARD
END:VTIMEZONE
END:VCALENDAR
