BEGIN:VCALENDAR
PRODID:-//eluceo/ical//2.0/EN
VERSION:2.0
CALSCALE:GREGORIAN
BEGIN:VEVENT
UID:595814389a70948e43340832c954ce84
DTSTAMP:20260425T234747Z
SUMMARY:Puc saber si tinc risc de patir un trastorn mental?
DESCRIPTION:Descobreix EPreventPsych: aprèn sobre detecció precoç de psi
 cosi i trastorn bipolar\, participa en qüestionaris interactius i mural p
 articipatiu\, coneix eines digitals de predicció i com poden ajudar a cui
 dar la salut mental. \n\nPúblic: Adults en general \, joves i adolescen
 ts \n\nTipus d’activitat: Carpes (a la calçada) \n\nHorari: 9:30-14
 :30 
DTSTART;TZID=Europe/Madrid:20260509T093000
DTEND;TZID=Europe/Madrid:20260509T143000
LOCATION:Casanova - Còrsega
END:VEVENT
BEGIN:VTIMEZONE
TZID:Europe/Madrid
BEGIN:STANDARD
DTSTART:20260101T014747
TZNAME:CET
TZOFFSETTO:+0100
TZOFFSETFROM:+0100
END:STANDARD
BEGIN:DAYLIGHT
DTSTART:20260329T030000
TZNAME:CEST
TZOFFSETTO:+0200
TZOFFSETFROM:+0100
END:DAYLIGHT
BEGIN:STANDARD
DTSTART:20261025T020000
TZNAME:CET
TZOFFSETTO:+0100
TZOFFSETFROM:+0200
END:STANDARD
END:VTIMEZONE
END:VCALENDAR
