BEGIN:VCALENDAR
PRODID:-//eluceo/ical//2.0/EN
VERSION:2.0
CALSCALE:GREGORIAN
BEGIN:VEVENT
UID:ffbe3c80a05fef53b19794b938d67346
DTSTAMP:20260425T221547Z
SUMMARY:Què en saps de la salut mental perinatal?
DESCRIPTION:Un espai acollidor per a gestants\, puerperes\, famílies i pro
 fessionals. Difusió sobre benestar emocional\, patologies i tractaments\,
  activitats d’autocura i tallers per fomentar el vincle amb el fetus/nad
 ó. Objectius: sensibilitzar\, informar\, reduir l’estigma i promoure la
  detecció precoç. \n\nPúblic: Per a tota la família \n\nTipus d’a
 ctivitat: Carpes (a la calçada) \n\nHorari: 9:30-14:30 
DTSTART;TZID=Europe/Madrid:20260509T093000
DTEND;TZID=Europe/Madrid:20260509T143000
LOCATION:Casanova - Còrsega
END:VEVENT
BEGIN:VTIMEZONE
TZID:Europe/Madrid
BEGIN:STANDARD
DTSTART:20260101T001547
TZNAME:CET
TZOFFSETTO:+0100
TZOFFSETFROM:+0100
END:STANDARD
BEGIN:DAYLIGHT
DTSTART:20260329T030000
TZNAME:CEST
TZOFFSETTO:+0200
TZOFFSETFROM:+0100
END:DAYLIGHT
BEGIN:STANDARD
DTSTART:20261025T020000
TZNAME:CET
TZOFFSETTO:+0100
TZOFFSETFROM:+0200
END:STANDARD
END:VTIMEZONE
END:VCALENDAR
