BEGIN:VCALENDAR
PRODID:-//eluceo/ical//2.0/EN
VERSION:2.0
CALSCALE:GREGORIAN
BEGIN:VEVENT
UID:5e94e9060eaffb9bc9c7950c2c974ed7
DTSTAMP:20260425T221948Z
SUMMARY:Què ens diu una gota de sang? Descobrint les biòpsies líquides
DESCRIPTION:Descobreix les biòpsies líquides de manera divertida: jocs\, 
 experiments i manualitats per entendre com la sang revela informació sobr
 e el càncer i com la recerca biomèdica ajuda al seguiment i cura de les 
 persones. \n\nPúblic: Per a tota la família \n\nTipus d’activitat:
  Carpes (a la calçada) \n\nHorari: 9:30-14:30 
DTSTART;TZID=Europe/Madrid:20260509T093000
DTEND;TZID=Europe/Madrid:20260509T143000
LOCATION:Casanova - Provença
END:VEVENT
BEGIN:VTIMEZONE
TZID:Europe/Madrid
BEGIN:STANDARD
DTSTART:20260101T001948
TZNAME:CET
TZOFFSETTO:+0100
TZOFFSETFROM:+0100
END:STANDARD
BEGIN:DAYLIGHT
DTSTART:20260329T030000
TZNAME:CEST
TZOFFSETTO:+0200
TZOFFSETFROM:+0100
END:DAYLIGHT
BEGIN:STANDARD
DTSTART:20261025T020000
TZNAME:CET
TZOFFSETTO:+0100
TZOFFSETFROM:+0200
END:STANDARD
END:VTIMEZONE
END:VCALENDAR
