BEGIN:VCALENDAR
PRODID:-//eluceo/ical//2.0/EN
VERSION:2.0
CALSCALE:GREGORIAN
BEGIN:VEVENT
UID:868b601369cae5d6dce796ba28489475
DTSTAMP:20260425T235043Z
SUMMARY:Què és una reacció adversa? Introducció a la farmacovigilància
  i a la seguretat dels medicaments
DESCRIPTION:Taula rodona per apropar la farmacovigilància al públic i fom
 entar un ús segur dels medicaments. S’hi explicaran les reaccions adver
 ses\, el balanç benefici-risc\, fonts fiables d’informació i com notif
 icar possibles efectes. \n\nPúblic: Adults en general \n\nTipus d’act
 ivitat: Les veus de la salut \n\nHorari: 12:30 
DTSTART;TZID=Europe/Madrid:20260509T123000
DTEND;TZID=Europe/Madrid:20260509T130000
LOCATION:Casanova - Provença
END:VEVENT
BEGIN:VTIMEZONE
TZID:Europe/Madrid
BEGIN:STANDARD
DTSTART:20260101T015043
TZNAME:CET
TZOFFSETTO:+0100
TZOFFSETFROM:+0100
END:STANDARD
BEGIN:DAYLIGHT
DTSTART:20260329T030000
TZNAME:CEST
TZOFFSETTO:+0200
TZOFFSETFROM:+0100
END:DAYLIGHT
BEGIN:STANDARD
DTSTART:20261025T020000
TZNAME:CET
TZOFFSETTO:+0100
TZOFFSETFROM:+0200
END:STANDARD
END:VTIMEZONE
END:VCALENDAR
