BEGIN:VCALENDAR
PRODID:-//eluceo/ical//2.0/EN
VERSION:2.0
CALSCALE:GREGORIAN
BEGIN:VEVENT
UID:a1282eefa4b6587188ea701f6776af7c
DTSTAMP:20260425T234516Z
SUMMARY:Què fem a la Unitat de Cures Intensives?
DESCRIPTION:Inscripció obligatòria\n\n\nInscripcions torn 10:15h\nInscrip
 cions torn 11:15h\nInscripcions torn 12:15h\nInscripcions torn 13:15h\n\n\
 nVisita al Laboratori de Simulació per conèixer el funcionament de la UC
 I: pacients\, procediments\, equips i vigilància\, amb explicacions de pr
 ofessionals i torn de preguntes per resoldre dubtes sobre el dia a dia de 
 la unitat. \n\n\n\n\nPúblic: Per a tota la família \n\nTipus d’acti
 vitat: Visites guiades \n\nPlaces disponibles: 10 (per torn)\n\nDurada:
  30' 
DTSTART;TZID=Europe/Madrid:20260509T101500
DTEND;TZID=Europe/Madrid:20260509T131500
LOCATION:Facultat
END:VEVENT
BEGIN:VTIMEZONE
TZID:Europe/Madrid
BEGIN:STANDARD
DTSTART:20260101T014516
TZNAME:CET
TZOFFSETTO:+0100
TZOFFSETFROM:+0100
END:STANDARD
BEGIN:DAYLIGHT
DTSTART:20260329T030000
TZNAME:CEST
TZOFFSETTO:+0200
TZOFFSETFROM:+0100
END:DAYLIGHT
BEGIN:STANDARD
DTSTART:20261025T020000
TZNAME:CET
TZOFFSETTO:+0100
TZOFFSETFROM:+0200
END:STANDARD
END:VTIMEZONE
END:VCALENDAR
