BEGIN:VCALENDAR
PRODID:-//eluceo/ical//2.0/EN
VERSION:2.0
CALSCALE:GREGORIAN
BEGIN:VEVENT
UID:9e5c9a921e293f864f0de934aff9242f
DTSTAMP:20260425T234515Z
SUMMARY:Qui hi ha darrere d’una investigació científica?
DESCRIPTION:Taller interactiu que mostra les diferents professions que inte
 rvenen en una investigació biomèdica. A través de petits experiments i 
 dinàmiques participatives\, els participants seguiran el recorregut d’u
 na mostra pel laboratori i descobriran el paper dels tècnics\, analistes 
 de dades i metges en el procés científic. L’activitat finalitza amb un
  repte interactiu per identificar les funcions de cada professional. \n\n
 Públic: Per a tota la família \n\nTipus d’activitat: Tallers de sal
 ut i ciència \n\nHorari: 9:30h-14:30h 
DTSTART;TZID=Europe/Madrid:20260509T093000
DTEND;TZID=Europe/Madrid:20260509T143000
LOCATION:Casanova - Rosselló
END:VEVENT
BEGIN:VTIMEZONE
TZID:Europe/Madrid
BEGIN:STANDARD
DTSTART:20260101T014515
TZNAME:CET
TZOFFSETTO:+0100
TZOFFSETFROM:+0100
END:STANDARD
BEGIN:DAYLIGHT
DTSTART:20260329T030000
TZNAME:CEST
TZOFFSETTO:+0200
TZOFFSETFROM:+0100
END:DAYLIGHT
BEGIN:STANDARD
DTSTART:20261025T020000
TZNAME:CET
TZOFFSETTO:+0100
TZOFFSETFROM:+0200
END:STANDARD
END:VTIMEZONE
END:VCALENDAR
