BEGIN:VCALENDAR
PRODID:-//eluceo/ical//2.0/EN
VERSION:2.0
CALSCALE:GREGORIAN
BEGIN:VEVENT
UID:b6240aacaa3d71038f1ebcfcab08d458
DTSTAMP:20260425T221720Z
SUMMARY:Repte bolquer exprés: practica\, diverteix-te i guanya confiança
DESCRIPTION:Taller divertit per a pares: aprèn i posa a prova la teva habi
 litat canviant bolquers en el menor temps possible\, assegurant la seguret
 at i comoditat del nadó\, amb consells pràctics i participació activa.
  \n\nPúblic: Per a tota la família \n\nTipus d’activitat: Carpes (
 a la calçada) \n\nHorari: 9:30-14:30 
DTSTART;TZID=Europe/Madrid:20260509T093000
DTEND;TZID=Europe/Madrid:20260509T143000
LOCATION:Casanova - Còrsega
END:VEVENT
BEGIN:VTIMEZONE
TZID:Europe/Madrid
BEGIN:STANDARD
DTSTART:20260101T001720
TZNAME:CET
TZOFFSETTO:+0100
TZOFFSETFROM:+0100
END:STANDARD
BEGIN:DAYLIGHT
DTSTART:20260329T030000
TZNAME:CEST
TZOFFSETTO:+0200
TZOFFSETFROM:+0100
END:DAYLIGHT
BEGIN:STANDARD
DTSTART:20261025T020000
TZNAME:CET
TZOFFSETTO:+0100
TZOFFSETFROM:+0200
END:STANDARD
END:VTIMEZONE
END:VCALENDAR
