BEGIN:VCALENDAR
PRODID:-//eluceo/ical//2.0/EN
VERSION:2.0
CALSCALE:GREGORIAN
BEGIN:VEVENT
UID:6b296ab8364c30f4f9f1ff2814dc013a
DTSTAMP:20260425T221617Z
SUMMARY:Ronyons al 100%: cuida’ls com els teus TikToks!
DESCRIPTION:Saps cuidar els teus ronyons? Vine a la nostra carpa: aprendrà
 s hàbits saludables\, la relació entre dieta\, pressió i diabetis\, res
 oldrem dubtes en directe i descobriràs com prevenir malalties renals aban
 s que apareguin símptomes. \n\nPúblic: Per a tota la família \n\nTip
 us d’activitat: Carpes (a la calçada) \n\nHorari: 9:30-14:30 
DTSTART;TZID=Europe/Madrid:20260509T093000
DTEND;TZID=Europe/Madrid:20260509T143000
LOCATION:Casanova - Còrsega
END:VEVENT
BEGIN:VTIMEZONE
TZID:Europe/Madrid
BEGIN:STANDARD
DTSTART:20260101T001617
TZNAME:CET
TZOFFSETTO:+0100
TZOFFSETFROM:+0100
END:STANDARD
BEGIN:DAYLIGHT
DTSTART:20260329T030000
TZNAME:CEST
TZOFFSETTO:+0200
TZOFFSETFROM:+0100
END:DAYLIGHT
BEGIN:STANDARD
DTSTART:20261025T020000
TZNAME:CET
TZOFFSETTO:+0100
TZOFFSETFROM:+0200
END:STANDARD
END:VTIMEZONE
END:VCALENDAR
