BEGIN:VCALENDAR
PRODID:-//eluceo/ical//2.0/EN
VERSION:2.0
CALSCALE:GREGORIAN
BEGIN:VEVENT
UID:46820f930a66b24654569c158d91548c
DTSTAMP:20260425T221443Z
SUMMARY:Salut pulmonar amb espirometries
DESCRIPTION:Activitat amb espirometries i informació sobre l’asma amb mo
 tiu del Dia Mundial de l’Asma. Punt informatiu amb voluntaris formats pe
 r fer proves i parlar de salut pulmonar. Organitza LungHealth4Life amb ISG
 lobal. \n\nPúblic: Per a tota la família \n\nTipus d’activitat: Ca
 rpes (a la calçada) \n\nHorari: 9:30-14:30 
DTSTART;TZID=Europe/Madrid:20260509T093000
DTEND;TZID=Europe/Madrid:20260509T143000
LOCATION:Casanova - Provença
END:VEVENT
BEGIN:VTIMEZONE
TZID:Europe/Madrid
BEGIN:STANDARD
DTSTART:20260101T001443
TZNAME:CET
TZOFFSETTO:+0100
TZOFFSETFROM:+0100
END:STANDARD
BEGIN:DAYLIGHT
DTSTART:20260329T030000
TZNAME:CEST
TZOFFSETTO:+0200
TZOFFSETFROM:+0100
END:DAYLIGHT
BEGIN:STANDARD
DTSTART:20261025T020000
TZNAME:CET
TZOFFSETTO:+0100
TZOFFSETFROM:+0200
END:STANDARD
END:VTIMEZONE
END:VCALENDAR
