BEGIN:VCALENDAR
PRODID:-//eluceo/ical//2.0/EN
VERSION:2.0
CALSCALE:GREGORIAN
BEGIN:VEVENT
UID:a5ab95fc89590c953d061c371d197094
DTSTAMP:20260425T221416Z
SUMMARY:Salut sexual: parlem-ne!
DESCRIPTION:Xerrada sobre salut sexual i reproductiva: informa't i protegei
 x-te! Prevenim embarassos i ITS\, fomentem el respecte i el consentiment\,
  oferim educació emocional\, recursos per a joves i famílies\, i un espa
 i de confiança per resoldre dubtes.\n\nPúblic: Adults en general\, joves
  i adolescents \n\nTipus d’activitat: Les veus de la salut \n\nHorari:
  13:00 
DTSTART;TZID=Europe/Madrid:20260509T130000
DTEND;TZID=Europe/Madrid:20260509T133000
LOCATION:Casanova - Provença
END:VEVENT
BEGIN:VTIMEZONE
TZID:Europe/Madrid
BEGIN:STANDARD
DTSTART:20260101T001416
TZNAME:CET
TZOFFSETTO:+0100
TZOFFSETFROM:+0100
END:STANDARD
BEGIN:DAYLIGHT
DTSTART:20260329T030000
TZNAME:CEST
TZOFFSETTO:+0200
TZOFFSETFROM:+0100
END:DAYLIGHT
BEGIN:STANDARD
DTSTART:20261025T020000
TZNAME:CET
TZOFFSETTO:+0100
TZOFFSETFROM:+0200
END:STANDARD
END:VTIMEZONE
END:VCALENDAR
