BEGIN:VCALENDAR
PRODID:-//eluceo/ical//2.0/EN
VERSION:2.0
CALSCALE:GREGORIAN
BEGIN:VEVENT
UID:a2c6bd0592ca05569806aae4e7e6df1f
DTSTAMP:20260425T221824Z
SUMMARY:Saps que es pot heretar la predisposició a tenir càncer?
DESCRIPTION:Descobreix el Programa de Càncer Hereditari: aprèn a reconèi
 xer senyals d’alerta\, coneix estudis genètics familiars\, opcions prev
 entives i reproductives\, i com protegir-te i protegir la teva família da
 vant del càncer hereditari. \n\nPúblic: Adults en general \n\nTipus d
 ’activitat: Carpes (a la calçada) \n\nHorari: 9:30-14:30 
DTSTART;TZID=Europe/Madrid:20260509T093000
DTEND;TZID=Europe/Madrid:20260509T143000
LOCATION:Casanova - Provença
END:VEVENT
BEGIN:VTIMEZONE
TZID:Europe/Madrid
BEGIN:STANDARD
DTSTART:20260101T001824
TZNAME:CET
TZOFFSETTO:+0100
TZOFFSETFROM:+0100
END:STANDARD
BEGIN:DAYLIGHT
DTSTART:20260329T030000
TZNAME:CEST
TZOFFSETTO:+0200
TZOFFSETFROM:+0100
END:DAYLIGHT
BEGIN:STANDARD
DTSTART:20261025T020000
TZNAME:CET
TZOFFSETTO:+0100
TZOFFSETFROM:+0200
END:STANDARD
END:VTIMEZONE
END:VCALENDAR
