BEGIN:VCALENDAR
PRODID:-//eluceo/ical//2.0/EN
VERSION:2.0
CALSCALE:GREGORIAN
BEGIN:VEVENT
UID:4b63d2286b1f23d074d755fe4cac494f
DTSTAMP:20260424T202736Z
SUMMARY:Seminari 'Arquitectura i experiència de pacients'
DESCRIPTION:Seminari: Arquitectura i experiència de pacients\n\n\nPresenta
 ció.\n\nDr Joan Escarrabill\, Director del programa d’Atenció a la Cro
 nicitat de l’Hospital Clínic i Coordinador de l’Espai d’Intercanvi 
 d’Experiències.\n\n\nCom s’involucren els pacients i professionals en
  el disseny d’espais?\n\n\nLekshmy Parameswaran\, dissenyadora i fundado
 ra de The Care Lab\nNúria Vilarasau\, dissenyadora de The Care Lab\n\n\n
 La participació de pacients en el disseny de les infraestructures del Cl
 ínic.\n\n\nNúria Ruiz\, Enginyera biomèdica\, Direcció d’Infraestruc
 tures i Enginyeria Biomèdica de l’Hospital Clínic\n\n\nEls espais invi
 sibles.\n\n\nOriol Ventura\, Professor investigador en el Centre Universi
 tari de Disseny i Art de Barcelona (EINA) i fundador d’Ovicuo Design\n\n
 \nDebat i torn de preguntes.
DTSTART;VALUE=DATE:20200225
LOCATION:Sala Farreras Valentí (escala 7-9\, Planta 3). C/ Villarroel\, 17
 0
END:VEVENT
BEGIN:VTIMEZONE
TZID:Europe/Madrid
BEGIN:STANDARD
DTSTART:20260101T222736
TZNAME:CET
TZOFFSETTO:+0100
TZOFFSETFROM:+0100
END:STANDARD
BEGIN:DAYLIGHT
DTSTART:20260329T030000
TZNAME:CEST
TZOFFSETTO:+0200
TZOFFSETFROM:+0100
END:DAYLIGHT
BEGIN:STANDARD
DTSTART:20261025T020000
TZNAME:CET
TZOFFSETTO:+0100
TZOFFSETFROM:+0200
END:STANDARD
END:VTIMEZONE
END:VCALENDAR
