BEGIN:VCALENDAR
PRODID:-//eluceo/ical//2.0/EN
VERSION:2.0
CALSCALE:GREGORIAN
BEGIN:VEVENT
UID:b892d2f679f2541bed87c44723a39f04
DTSTAMP:20260424T124851Z
SUMMARY:Sessió clínica Observatori Experiència de pacient | abril 2026
DESCRIPTION:La sessió clínica d'abril tractarà de:\n\n\nEl temps des de 
 la perspectiva de pacient. A càrrec de Joan Escarrabill\, consultor emèr
 it de l’Observatori d’Experiència del Pacient de l’Hospital Clínic
 . \n\n\nSegueix la sessió aquí
DTSTART;TZID=Europe/Madrid:20260428T150000
DTEND;TZID=Europe/Madrid:20260428T160000
LOCATION:
END:VEVENT
BEGIN:VTIMEZONE
TZID:Europe/Madrid
BEGIN:STANDARD
DTSTART:20260101T144851
TZNAME:CET
TZOFFSETTO:+0100
TZOFFSETFROM:+0100
END:STANDARD
BEGIN:DAYLIGHT
DTSTART:20260329T030000
TZNAME:CEST
TZOFFSETTO:+0200
TZOFFSETFROM:+0100
END:DAYLIGHT
BEGIN:STANDARD
DTSTART:20261025T020000
TZNAME:CET
TZOFFSETTO:+0100
TZOFFSETFROM:+0200
END:STANDARD
END:VTIMEZONE
END:VCALENDAR
