BEGIN:VCALENDAR
PRODID:-//eluceo/ical//2.0/EN
VERSION:2.0
CALSCALE:GREGORIAN
BEGIN:VEVENT
UID:631da8172201c64a73fa2a5e9501c5e0
DTSTAMP:20260425T221619Z
SUMMARY:Sessió de ioga amb Pascale Bony
DESCRIPTION:Inscripció obligatòria\n\n\n\nInscripcions torn 13:30h\n\n\n\
 nSessió de ioga amb Pascale Bony per connectar cos i ment a través del m
 oviment\, la respiració i la relaxació. Durant la pràctica\, els partic
 ipants realitzaran diferents postures i exercicis de respiració que ajude
 n a millorar la flexibilitat\, reduir l’estrès i potenciar el benestar 
 general. Una activitat oberta a tots els nivells per descobrir els benefic
 is del ioga i dedicar un moment a la cura personal.\n\nPúblic: Adults \
 n\nTipus d’activitat: Espai Benestar 
DTSTART;TZID=Europe/Madrid:20260509T133000
DTEND;TZID=Europe/Madrid:20260509T143000
LOCATION:Casanova - Provença
END:VEVENT
BEGIN:VTIMEZONE
TZID:Europe/Madrid
BEGIN:STANDARD
DTSTART:20260101T001619
TZNAME:CET
TZOFFSETTO:+0100
TZOFFSETFROM:+0100
END:STANDARD
BEGIN:DAYLIGHT
DTSTART:20260329T030000
TZNAME:CEST
TZOFFSETTO:+0200
TZOFFSETFROM:+0100
END:DAYLIGHT
BEGIN:STANDARD
DTSTART:20261025T020000
TZNAME:CET
TZOFFSETTO:+0100
TZOFFSETFROM:+0200
END:STANDARD
END:VTIMEZONE
END:VCALENDAR
